BEGIN:VCALENDAR
PRODID:NingEventWidget-v1
VERSION:2.0
METHOD:PUBLISH
BEGIN:VEVENT
UID:4320450:Event:171529
DTSTAMP:20260425T111838Z
SUMMARY:The Clay Studio presents Clay &amp; Conversations with Frankie
  Reyes and Nuokan Huang
DESCRIPTION:The Clay Studio presents Clay & Conversations, an exciting
  series of informal conversations with ceramic artists, curators, scho
 lars, and friends. On December 15th, join Jennifer Zwilling, Curator, 
 and Director of Artistic Programs, as she welcomes The Clay Studio sta
 ff members Frankie Reyes, teaching artists, and Nuokan Huang, educatio
 n coordinator. Reyes’s artistic practice investigates conceptual und
 erstandings of habitat while exploring the formal properties of drawin
 g, painting, and ceramics.  Huang focuses on creating small-scale wor
 ks that have evolved from traditional forms like pots into mini-landsc
 apes that offer more creative freedom.\n\nFor more information visit h
 ttp://phillytodo.com/events/the-clay-studio-presents-clay-amp-conversa
 tions-with-frankie
DTSTART:20221215T180000Z
DTEND:20221215T190000Z
CATEGORIES:panel, education
LOCATION:The Clay Studio or Zoom
WEBSITE:https://www.theclaystudio.org/clay-and-convo
URL:https://www.theclaystudio.org/clay-and-convo
CONTACT:2159253453
ORGANIZER:The Clay Studio
ATTACH;FMTTYPE="image/jpeg":https://storage.ning.com/topology/rest/1.0
 /file/get/10889597690?profile=original
ATTENDEE;ROLE=REQ-PARTICIPANT;PARTSTAT=ACCEPTED;RSVP=TRUE;CN="En Route
  Marketing":http://phillytodo.com/profile/EnRouteMarketing
END:VEVENT
END:VCALENDAR
