BEGIN:VCALENDAR
PRODID:NingEventWidget-v1
VERSION:2.0
METHOD:PUBLISH
BEGIN:VEVENT
UID:4320450:Event:171514
DTSTAMP:20260425T123724Z
SUMMARY:The Clay Studio presents Clay &amp; Conversations: Meet the Re
 sidents
DESCRIPTION:The Clay Studio presents Clay & Conversations, an exciting
  series of informal conversations and get-togethers with ceramic artis
 ts, curators, scholars, and friends. On December 1, join Jennifer Zwil
 ling, Curator of Artistic Programs, for a special evening session wher
 e attendees can learn about and meet each of the current Resident Arti
 sts. This year’s Resident Artists includes Adebunmi Gbadebo, Akiko J
 ackson, Chris Rodgers, Dante Gambardella, Jeanne Blissett Robertson, J
 insik You, Josephine Better Larsen, Kevin Snipes, Liisa Nelson, Minah 
 Kim, Ruth Easterbrook, and Stephanie Kantor. There will be a reception
  and short artist talks, followed by a chance to tour their studios. T
 he Clay Studio serves as a place where established or emerging artists
  can come to shape their careers through its internationally-renowned 
 artist residency programs.\n\nFor more information visit http://philly
 todo.com/events/the-clay-studio-presents-clay-amp-conversations-meet-t
 he
DTSTART:20221201T230000Z
DTEND:20221202T010000Z
CATEGORIES:clay, "&amp", conversations
LOCATION:1425 N American Street Philadelphia, PA 19122
WEBSITE:https://www.theclaystudio.org/clay-and-convo
URL:https://www.theclaystudio.org/clay-and-convo
CONTACT:(215) 925-3453
ORGANIZER;CN="En Route Marketing":http://phillytodo.com/profile/EnRout
 eMarketing
ATTACH;FMTTYPE="image/jpeg":https://storage.ning.com/topology/rest/1.0
 /file/get/10882142661?profile=original
ATTENDEE;ROLE=REQ-PARTICIPANT;PARTSTAT=ACCEPTED;RSVP=TRUE;CN="En Route
  Marketing":http://phillytodo.com/profile/EnRouteMarketing
END:VEVENT
END:VCALENDAR
