BEGIN:VCALENDAR
PRODID:NingEventWidget-v1
VERSION:2.0
METHOD:PUBLISH
BEGIN:VEVENT
UID:4320450:Event:58105
DTSTAMP:20260425T132527Z
SUMMARY:The Clay Studio Mud Ball
DESCRIPTION:Enjoy a festive evening with fabulous friends, fine art, a
 nd delicious bites by Feast Your Eyes catering at The Clay Studio’s 
 great big Mud Ball! Dance the night away to a live DJ, enter in big ra
 ffles, and participate in wheel battles. Don’t miss this special nig
 ht!\n\nFor more information visit http://phillytodo.com/events/the-cla
 y-studio-mud-ball
DTSTART:20190426T223000Z
DTEND:20190427T030000Z
CATEGORIES:ball
LOCATION:Front &amp; Palmer
WEBSITE:http://www.theclaystudio.org
URL:http://www.theclaystudio.org
CONTACT:215-925-3453
ORGANIZER:
ATTACH;FMTTYPE="image/jpeg":https://storage.ning.com/topology/rest/1.0
 /file/get/1718677246?profile=original
ATTENDEE;ROLE=REQ-PARTICIPANT;PARTSTAT=ACCEPTED;RSVP=TRUE;CN="Bryan Ch
 an":http://phillytodo.com/profile/BryanChan
END:VEVENT
END:VCALENDAR
