BEGIN:VCALENDAR
PRODID:NingEventWidget-v1
VERSION:2.0
METHOD:PUBLISH
BEGIN:VEVENT
UID:4320450:Event:168913
DTSTAMP:20260425T142835Z
SUMMARY:The Clay Studio Lunch &amp; Learns : A Proper Send Off - Kathr
 yn Narrow &amp; Kathie Regan
DESCRIPTION:Kathryn Narrow, the founder of The Clay Studio’s Claymob
 ile, and Kathie Regan Dalzell, an early Resident and administrator at 
 The Clay Studio, will engage in a conversation with Jennifer Zwilling 
 about their work at The Clay Studio from the 1970’s to today. They w
 ill also share more details about the Proper Send-Off auction and open
  house on October 2nd, where attendees can say a fond farewell to The 
 Clay Studio’s Old City location at 137-139 N. 2nd Street. Join the Z
 oom call to ask questions and listen to the discussion!\n\nFor more in
 formation visit http://phillytodo.com/events/the-clay-studio-lunch-amp
 -learns-a-proper-send-off-kathryn-narrow
DTSTART:20210923T160000Z
DTEND:20210923T170000Z
CATEGORIES:online, discussion
LOCATION:https://temple.zoom.us/j/93840531750#success
WEBSITE:https://www.theclaystudio.org/lunch-and-learn
URL:https://www.theclaystudio.org/lunch-and-learn
CONTACT:215-925-3453
ORGANIZER:The Clay Studio
ATTACH;FMTTYPE="image/jpeg":https://storage.ning.com/topology/rest/1.0
 /file/get/9566297492?profile=original
ATTENDEE;ROLE=REQ-PARTICIPANT;PARTSTAT=ACCEPTED;RSVP=TRUE;CN="Bryan Ch
 an":http://phillytodo.com/profile/BryanChan
END:VEVENT
END:VCALENDAR
