BEGIN:VCALENDAR
PRODID:NingEventWidget-v1
VERSION:2.0
METHOD:PUBLISH
BEGIN:VEVENT
UID:4320450:Event:168524
DTSTAMP:20260425T131458Z
SUMMARY:The Clay Studio Lunch &amp; Learns : A Proper Send Off - Amy S
 arner Williams &amp; Barbara Horowitz
DESCRIPTION:Amy Sarner Williams, a long-serving member of the executiv
 e staff of The Clay Studio and former Resident Artist, will join ceram
 ic art collector Barbara Horowitz, to share their most exciting memori
 es of The Clay Studio with host, Jennifer Zwilling. Participants will 
 also hear more about The Clay Studio’s October 2nd event, where all 
 who attend will have the chance to say a fond farewell to The Clay Stu
 dio’s Old City location at 137-139 N. 2nd Street. Join the Zoom call
  to ask questions and listen to the discussion!\n\nFor more informatio
 n visit http://phillytodo.com/events/the-clay-studio-lunch-amp-learns-
 a-proper-send-off-amy-sarner
DTSTART:20210930T160000Z
DTEND:20210930T170000Z
CATEGORIES:online, discussion
LOCATION:https://temple.zoom.us/j/99722494646#success
WEBSITE:
URL:
CONTACT:
ORGANIZER:The Clay Studio
ATTACH;FMTTYPE="image/jpeg":https://storage.ning.com/topology/rest/1.0
 /file/get/9578007459?profile=original
ATTENDEE;ROLE=REQ-PARTICIPANT;PARTSTAT=ACCEPTED;RSVP=TRUE;CN="Bryan Ch
 an":http://phillytodo.com/profile/BryanChan
END:VEVENT
END:VCALENDAR
