BEGIN:VCALENDAR
PRODID:NingEventWidget-v1
VERSION:2.0
METHOD:PUBLISH
BEGIN:VEVENT
UID:4320450:Event:170410
DTSTAMP:20260425T112611Z
SUMMARY:The Clay Studio Lunch &amp; Learn - New Resident Introductions
  (Part 2)
DESCRIPTION:Join Jennifer Zwilling, Curator of Artistic Programs at Th
 e Clay Studio, as she introduces three new residents at The Clay Studi
 o: Dante Gambardella, Jinsik Yoo, and Liisa Nelson. Bozeman, MT-based 
 artist Dante Gambardella utilizes local materials to initiate conversa
 tions about environmental issues by creating functional and sculptural
  ceramic pieces. South Korean figurative sculptor Jinsik Yoo mashes up
  two- and three-dimensional works to explore subjects such as gender b
 inaries, how memory affects perception, and conscious decision-making.
  Montana native Liisa Nelson references science, math, religion, anthr
 opology, and art history in her ceramic work while embracing and build
 ing bridges between dissimilar ideas. Join the Zoom call to ask questi
 ons and listen in on the discussion!\n\nFor more information visit htt
 p://phillytodo.com/events/the-clay-studio-lunch-amp-learn-new-resident
 -introductions-part-2
DTSTART:20220203T170000Z
DTEND:20220203T180000Z
CATEGORIES:lunch, and, learn, with, the, clay, studio
LOCATION:https://temple.zoom.us/j/95270541799
WEBSITE:https://www.theclaystudio.org/lunch-and-learn
URL:https://www.theclaystudio.org/lunch-and-learn
CONTACT:
ORGANIZER;CN="Bryan Chan":http://phillytodo.com/profile/BryanChan
ATTACH;FMTTYPE="image/jpeg":https://storage.ning.com/topology/rest/1.0
 /file/get/10026838876?profile=original
ATTENDEE;ROLE=REQ-PARTICIPANT;PARTSTAT=ACCEPTED;RSVP=TRUE;CN="Bryan Ch
 an":http://phillytodo.com/profile/BryanChan
END:VEVENT
END:VCALENDAR
