BEGIN:VCALENDAR
PRODID:NingEventWidget-v1
VERSION:2.0
METHOD:PUBLISH
BEGIN:VEVENT
UID:4320450:Event:41843
DTSTAMP:20260425T125640Z
SUMMARY:The City of Love Art Exhibition
DESCRIPTION:Please join us to view \"The City of Love\" by artist Ekat
 erina Ermilkina.\n\nFor more information visit http://phillytodo.com/e
 vents/the-city-of-love-art-exhibition
DTSTART:20150904T210000Z
DTEND:20150905T000000Z
CATEGORIES:artist, reception
LOCATION:Bluestone Fine Art Gallery
WEBSITE:http://bluestone-gallery.com
URL:http://bluestone-gallery.com
CONTACT:856.979.7588
ORGANIZER;CN="Bluestone Fine Art Gallery":http://phillytodo.com/profil
 e/BluestoneFineArtGallery
ATTACH;FMTTYPE="image/jpeg":
ATTENDEE;ROLE=REQ-PARTICIPANT;PARTSTAT=ACCEPTED;RSVP=TRUE;CN="Blueston
 e Fine Art Gallery":http://phillytodo.com/profile/BluestoneFineArtGall
 ery
END:VEVENT
END:VCALENDAR
