BEGIN:VCALENDAR
PRODID:NingEventWidget-v1
VERSION:2.0
METHOD:PUBLISH
BEGIN:VEVENT
UID:4320450:Event:45904
DTSTAMP:20260425T163415Z
SUMMARY:The Charlie Daniels Band at Valley Forge Casino Resort Music F
 air
DESCRIPTION:Valley Forge Music Fair at The Valley Forge Casino Resort 
 (1160 First Avenue) presents the Charlie Daniels Band on Friday, July 
 8, 2016.  Through the years, Charlie Daniels has scored hits on the r
 ock, country, pop and Christian charts and counts his awards from the 
 Country Music Association (CMA), Academy of Country Music (ACM), TNN/M
 usic City News Awards, and the Gospel Music Association (GMA) among hi
 s many accolades. Born in Wilmington, NC, his signature song, “The D
 evil Went Down to Georgia,” topped both country and pop charts, brin
 ging him international acclaim. Doors will open at 7:00pm, with the sh
 ow starting at 8:00pm. Tickets are on sale now at Ticketmaster for $59
 .00 to $119.00 each\n\nFor more information visit http://phillytodo.co
 m/events/the-charlie-daniels-band-at-valley-forge-casino-resort-music-
 fair
DTSTART:20160709T000000Z
DTEND:20160709T020000Z
CATEGORIES:concert
LOCATION:The Valley Forge Casino Resort
WEBSITE:https://www.vfcasino.com/events/the-charlie-daniels-band/
URL:https://www.vfcasino.com/events/the-charlie-daniels-band/
CONTACT:
ORGANIZER;CN="Aversa PR & Events":http://phillytodo.com/profile/KoryAv
 ersa277
ATTACH;FMTTYPE="image/jpeg":http://storage.ning.com/topology/rest/1.0/
 file/get/3054996024?profile=original
ATTENDEE;ROLE=REQ-PARTICIPANT;PARTSTAT=ACCEPTED;RSVP=TRUE;CN="Aversa P
 R & Events":http://phillytodo.com/profile/KoryAversa277
END:VEVENT
END:VCALENDAR
