BEGIN:VCALENDAR
PRODID:NingEventWidget-v1
VERSION:2.0
METHOD:PUBLISH
BEGIN:VEVENT
UID:4320450:Event:24710
DTSTAMP:20260425T144146Z
SUMMARY:The Chamber Orchestra of Philadelphia's Lifetime Achievement A
 ward Gala honoring Jessye Norman
DESCRIPTION:Gala Chairs Carole and Joseph Shanis and The Chamber Or
 chestra of Philadelphia Board of Directors invite you to join in hono
 ring five-time Grammy Award winning soprano Jessye Norman.\nJessye Nor
 man returns to be honored in the City of Philadelphia, where she made 
 her United States operatic debut 30 years ago! Join us for an evening 
 of celebration, dinner, cocktails, dancing and a private recital by sp
 ecial guests.\n\nFor more information visit http://phillytodo.com/even
 ts/the-chamber-orchestra-of-philadelphia-s-lifetime-achievement
DTSTART:20120414T220000Z
DTEND:20120415T033000Z
CATEGORIES:gala
LOCATION:The Westin Philadelphia
WEBSITE:http://www.chamberorchestra.org/concerts/gala2012.php
URL:http://www.chamberorchestra.org/concerts/gala2012.php
CONTACT:(215) 545-5451
ORGANIZER;CN="Chamber Orchestra Philadelphia":http://phillytodo.com/pr
 ofile/AileenRimando
ATTACH;FMTTYPE="image/jpeg":
ATTENDEE;ROLE=REQ-PARTICIPANT;PARTSTAT=ACCEPTED;RSVP=TRUE;CN="Chamber 
 Orchestra Philadelphia":http://phillytodo.com/profile/AileenRimando
END:VEVENT
END:VCALENDAR
