BEGIN:VCALENDAR
PRODID:NingEventWidget-v1
VERSION:2.0
METHOD:PUBLISH
BEGIN:VEVENT
UID:4320450:Event:170664
DTSTAMP:20260425T111605Z
SUMMARY:The Center for Art in Wood presents Windgate International Res
 idency Open Studio Day
DESCRIPTION:Join the Center for Art in Wood at NextFab for an opportun
 ity to meet Resident Fellows of the 2022 Windgate International Reside
 ncy Program and learn about their concepts and works in progress, whe
 ther in wood, film, writing or other documentation. This event celebra
 tes the Center’s 25 years of sponsoring the international residency 
 program. Resident Fellows live and work here in Philadelphia during an
  intensive 8-week program, culminating in an exhibition of their work 
 on August 5, 2022. Supported through funding from the Windgate Foundat
 ion and programmed by The Center for Art in Wood and hosted by our par
 tner NextFab, the residency encourages research, studio work, experime
 nts, and collaborations.\n\nFor more information visit http://phillyto
 do.com/events/the-center-for-art-in-wood-presents-windgate-internation
 al
DTSTART:20220709T140000Z
DTEND:20220709T193000Z
CATEGORIES:arts, "&amp", craft, event
LOCATION:NextFab
WEBSITE:https://goo.gl/maps/CJFQJuqbbo3KKYhu5
URL:https://goo.gl/maps/CJFQJuqbbo3KKYhu5
CONTACT:215-923-8000
ORGANIZER:Center for Art in Wood
ATTACH;FMTTYPE="image/jpeg":https://storage.ning.com/topology/rest/1.0
 /file/get/10592951281?profile=original
ATTENDEE;ROLE=REQ-PARTICIPANT;PARTSTAT=ACCEPTED;RSVP=TRUE;CN="En Route
  Marketing":http://phillytodo.com/profile/EnRouteMarketing
END:VEVENT
END:VCALENDAR
