BEGIN:VCALENDAR
PRODID:NingEventWidget-v1
VERSION:2.0
METHOD:PUBLISH
BEGIN:VEVENT
UID:4320450:Event:170930
DTSTAMP:20260425T125520Z
SUMMARY:The Center for Art in Wood presents Object Lesson
DESCRIPTION:Join the Center for Art in Wood for its monthly First Frid
 ay speaker series, Object Lesson. This series brings art enthusiasts a
 nd leaders in the community together to interpret items in the Museum 
 Collection and create fresh dialogues about the Collection and its obj
 ects. Object Lesson offers the public an up-close and personal experie
 nce in an informal, discursive setting that will encourage exploration
  of the many treasures in the Collection.\n\nFor more information visi
 t http://phillytodo.com/events/the-center-for-art-in-wood-presents-obj
 ect-lesson
DTSTART:20220603T220000Z
DTEND:20220603T230000Z
CATEGORIES:art
LOCATION:The Center for Art in Wood
WEBSITE:https://centerforartinwood.org/event/object-lesson-2/
URL:https://centerforartinwood.org/event/object-lesson-2/
CONTACT:215-923-8000
ORGANIZER;CN="En Route Marketing":http://phillytodo.com/profile/EnRout
 eMarketing
ATTACH;FMTTYPE="image/jpeg":https://storage.ning.com/topology/rest/1.0
 /file/get/10479695285?profile=original
ATTENDEE;ROLE=REQ-PARTICIPANT;PARTSTAT=ACCEPTED;RSVP=TRUE;CN="En Route
  Marketing":http://phillytodo.com/profile/EnRouteMarketing
END:VEVENT
END:VCALENDAR
