BEGIN:VCALENDAR
PRODID:NingEventWidget-v1
VERSION:2.0
METHOD:PUBLISH
BEGIN:VEVENT
UID:4320450:Event:170832
DTSTAMP:20260425T181006Z
SUMMARY:The Center for Art in Wood presents How it Started and How itâ
 €™s Going: Collector Talk with Randy Pi
DESCRIPTION:Join the Center for Art in Wood for a talk with collector 
 and ER physician, Randy Pi. In this latest installment of the biannual
  collecting focus lecture series, How it Started and How itâ€™s Going,
  Dr. Pi reveals to listeners his reasons for collecting art, how and w
 hy he got started, and what he finds compelling about certain artworks
 . In Dr. Piâ€™s demanding line of work, human artistic and architectur
 al achievements inspire him to stay motivated and resilient. Donâ€™t m
 iss this special glimpse into a collection!\nThis event is free to the
  public and will be hosted live on zoom.\n\nFor more information visit
  http://phillytodo.com/events/the-center-for-art-in-wood-presents-how-
 it-started-and-how-it-s
DTSTART:20220914T223000Z
DTEND:20220914T233000Z
CATEGORIES:art, lecture
LOCATION:VIRTUAL EVENT
WEBSITE:https://centerforartinwood.org/event/how-it-started-and-how-it
 s-going-randy-pi/
URL:https://centerforartinwood.org/event/how-it-started-and-how-its-go
 ing-randy-pi/
CONTACT:215-923-8000
ORGANIZER:The Center for Art in Wood
ATTACH;FMTTYPE="image/jpeg":
ATTENDEE;ROLE=REQ-PARTICIPANT;PARTSTAT=ACCEPTED;RSVP=TRUE;CN="En Route
  Marketing":http://phillytodo.com/profile/EnRouteMarketing
END:VEVENT
END:VCALENDAR
