BEGIN:VCALENDAR
PRODID:NingEventWidget-v1
VERSION:2.0
METHOD:PUBLISH
BEGIN:VEVENT
UID:4320450:Event:170729
DTSTAMP:20260425T143436Z
SUMMARY:The Center for Art in Wood presents Gallery Tour with Norm Sar
 torius
DESCRIPTION:Join the Center for Art in Wood for an artist-led Gallery 
 Tour of its latest exhibition, Spoons to Stir the Soul: The World of N
 orm Sartorius, featuring works by renowned woodcarver Norm Sartorius. 
 During this hybrid event, participants will be led by Sartorius throug
 h his first career retrospective exhibition, which celebrates over 40 
 years of his career carving extraordinary sculpted spoons. Curated by 
 craft writer and curator Craig Edelbrock, Spoons to Stir the Soul feat
 ures many of the artist’s finest works sourced from several premier 
 private and public collections in the United States. In addition to sp
 oons, the collection includes large carved wood sculptures that demons
 trate the breadth of his artistic repertoire.\n\nFor more information 
 visit http://phillytodo.com/events/the-center-for-art-in-wood-presents
 -gallery-tour-with-norm
DTSTART:20220611T180000Z
DTEND:20220611T190000Z
CATEGORIES:gallery, tour
LOCATION:The Center for Art in Wood
WEBSITE:https://centerforartinwood.org/event/gallery-tour-for-spoons-t
 o-stir-the-soul-the-world-of-norm-sartorius/2022-06-11/
URL:https://centerforartinwood.org/event/gallery-tour-for-spoons-to-st
 ir-the-soul-the-world-of-norm-sartorius/2022-06-11/
CONTACT:215-923-8000
ORGANIZER;CN="En Route Marketing":http://phillytodo.com/profile/EnRout
 eMarketing
ATTACH;FMTTYPE="image/jpeg":https://storage.ning.com/topology/rest/1.0
 /file/get/10484617662?profile=original
ATTENDEE;ROLE=REQ-PARTICIPANT;PARTSTAT=ACCEPTED;RSVP=TRUE;CN="En Route
  Marketing":http://phillytodo.com/profile/EnRouteMarketing
END:VEVENT
END:VCALENDAR
