BEGIN:VCALENDAR
PRODID:NingEventWidget-v1
VERSION:2.0
METHOD:PUBLISH
BEGIN:VEVENT
UID:4320450:Event:170808
DTSTAMP:20260425T113250Z
SUMMARY:The Center for Art in Wood presents Gallery Tour with Norm Sar
 torius
DESCRIPTION: Join the Center for Art in Wood for an artist-led Galler
 y Tour of its latest exhibition, Spoons to Stir the Soul: The World of
  Norm Sartorius, featuring works by renowned woodcarver Norm Sartorius
 . During this hybrid event, participants will be led by Sartorius thro
 ugh his first career retrospective exhibition, which celebrates over 4
 0 years of his career carving extraordinary sculpted spoons. Curated b
 y craft writer and curator Craig Edelbrock, Spoons to Stir the Soul fe
 atures many of the artist’s finest works sourced from several premie
 r private and public collections in the United States. In addition to 
 spoons, the collection includes large carved wood sculptures that demo
 nstrate the breadth of his artistic repertoire.\n\nFor more informatio
 n visit http://phillytodo.com/events/the-center-for-art-in-wood-presen
 ts-gallery-tour-with-norm-1
DTSTART:20220611T200000Z
DTEND:20220611T210000Z
CATEGORIES:gallery, tour
LOCATION:The Center for Art in Wood
WEBSITE:https://centerforartinwood.org/event/gallery-tour-for-spoons-t
 o-stir-the-soul-the-world-of-norm-sartorius/2022-06-11/
URL:https://centerforartinwood.org/event/gallery-tour-for-spoons-to-st
 ir-the-soul-the-world-of-norm-sartorius/2022-06-11/
CONTACT:215-923-8000
ORGANIZER;CN="En Route Marketing":http://phillytodo.com/profile/EnRout
 eMarketing
ATTACH;FMTTYPE="image/jpeg":https://storage.ning.com/topology/rest/1.0
 /file/get/10484620289?profile=original
ATTENDEE;ROLE=REQ-PARTICIPANT;PARTSTAT=ACCEPTED;RSVP=TRUE;CN="En Route
  Marketing":http://phillytodo.com/profile/EnRouteMarketing
END:VEVENT
END:VCALENDAR
