BEGIN:VCALENDAR
PRODID:NingEventWidget-v1
VERSION:2.0
METHOD:PUBLISH
BEGIN:VEVENT
UID:4320450:Event:170806
DTSTAMP:20260425T124129Z
SUMMARY:The Center for Art in Wood and The Furniture Society presents 
 Free Range Carving Meetup
DESCRIPTION:In celebration of National Day of Making, the Center for A
 rt in Wood and the Furniture Society are teaming up to present a f
 un and creative day of Free Range Carving. Grab your whittling tools a
 nd wood for an afternoon of carving, conversation, and camaraderie. Br
 ing your friends, family, and artistic spirit to create something spec
 tacular! If you don’t have your own tools and supplies, not to worry
 — spoon carving kits are available for purchase in the Center’s st
 ore. Afterward, we’ll continue the festivities nearby at the Indep
 endence Beer Garden for cocktails, games, and snacks. \n\nFor more 
 information visit http://phillytodo.com/events/the-center-for-art-in-w
 ood-and-the-furniture-society-presents
DTSTART:20220611T160000Z
DTEND:20220611T190000Z
CATEGORIES:arts, "&amp", crafts, course
LOCATION:The Center for Art in Wood
WEBSITE:https://centerforartinwood.org/event/free-range-carving-meetup
 /
URL:https://centerforartinwood.org/event/free-range-carving-meetup/
CONTACT:215-923-8000
ORGANIZER;CN="En Route Marketing":http://phillytodo.com/profile/EnRout
 eMarketing
ATTACH;FMTTYPE="image/jpeg":https://storage.ning.com/topology/rest/1.0
 /file/get/10482289486?profile=original
ATTENDEE;ROLE=REQ-PARTICIPANT;PARTSTAT=ACCEPTED;RSVP=TRUE;CN="En Route
  Marketing":http://phillytodo.com/profile/EnRouteMarketing
END:VEVENT
END:VCALENDAR
