BEGIN:VCALENDAR
PRODID:NingEventWidget-v1
VERSION:2.0
METHOD:PUBLISH
BEGIN:VEVENT
UID:4320450:Event:41363
DTSTAMP:20260425T131049Z
SUMMARY:The Censored 11: Film Shorts Screening and Discussion
DESCRIPTION:Does artistic expression trump offensive content? How does
  censorship impact our understanding of history? In 1968, United Artis
 ts chose to withhold the distribution rights for 11 Looney Tunes and M
 errie Melodies cartoons due to the offensiveness of racial stereotypes
  presented in them. Since that time, successive rights holders have up
 held this ban on broadcast and theatrical screenings, and the short ca
 rtoons have only been shown once, in 2010, in a screening held by Warn
 er Bros. However, copies do exist on VHS and DVD and we invite you to 
 a special screening of all 11 of these controversial works!\nJoin Mich
 ael Dennis and Dr. Beverly Richards for this viewing, followed by a li
 vely conversation on art, culture, race and history! Michael Dennis is
  a filmmaker and the founder of Reelblack, a full-service film and vid
 eo production company dedicated to creating and promoting “good movi
 es ’bout Black Folks.” Dr. Beverly Richards is the owner and curat
 or of the A Cinema Apart Collection which includes African American Fi
 lm memorabilia from the 1920s through 1950s. A Cinema Apart provides V
 intage and hard-to-find African American films and products to enthusi
 asts across the globe.\nThis program is presented in conjunction with
 Plan-Ta-Shun: Works by Colin Quashie.\n\nFor more information visit h
 ttp://phillytodo.com/events/the-censored-11-film-shorts-screening-and-
 discussion
DTSTART:20150707T220000Z
DTEND:20150707T230000Z
CATEGORIES:screening, "&", discussion
LOCATION:African American Museum in Philadelphia
WEBSITE:http://www.aampmuseum.org/
URL:http://www.aampmuseum.org/
CONTACT:(215) 574-0380
ORGANIZER;CN="Skai Blue Media":http://phillytodo.com/profile/SkaiBlueM
 edia
ATTACH;FMTTYPE="image/jpeg":
ATTENDEE;ROLE=REQ-PARTICIPANT;PARTSTAT=ACCEPTED;RSVP=TRUE;CN="Skai Blu
 e Media":http://phillytodo.com/profile/SkaiBlueMedia
END:VEVENT
END:VCALENDAR
