BEGIN:VCALENDAR
PRODID:NingEventWidget-v1
VERSION:2.0
METHOD:PUBLISH
BEGIN:VEVENT
UID:4320450:Event:41483
DTSTAMP:20260425T130622Z
SUMMARY:The Buddhist Way of Life
DESCRIPTION:October 1st – The Heart of Buddhist Practice: Doing No H
 armOctober 8th – The Supreme Good Heart: Working for the Happiness o
 f All Living BeingsOctober 15th – The Three Principal Aspects of the
  Spiritual PathOctober 22nd – Modern Buddhism in the WorkplaceOctobe
 r 29th – Buddhist Philosophy: Understanding the Heart SutraNovember 
 5th – Bringing it All Together: Advice from Atisha’s Heart\n\nEver
 yone is welcome to attend.  $10 per class. Drop into any class.\nClas
 ses are taught by Gen Tenzin, the Resident Teacher of Amitayus Kadampa
  Buddhist Center and a Buddhist monk of over 17 years who has taught K
 adampa Buddhism extensively for over 18 years in California, Connectic
 ut, Vermont, Maine, New York, Massachusetts, New Hampshire, New Jersey
 , and Pennsylvania.  He has a great depth of understanding of the tea
 chings and is skillful in his presentation by sharing them in an enter
 taining, approachable, and kind-hearted manner.  \n\nFor more informa
 tion visit http://phillytodo.com/events/the-buddhist-way-of-life
DTSTART:20151001T230000Z
DTEND:20151002T003000Z
CATEGORIES:meditation, wellness, class
LOCATION:Amitayus Kadampa Buddhist Center
WEBSITE:http://www.meditationinphiladelphia.org/thursday-evenings/
URL:http://www.meditationinphiladelphia.org/thursday-evenings/
CONTACT:267-702-3817
ORGANIZER;CN="Education Program Coordinator":http://phillytodo.com/pro
 file/EducationProgramCoordinator
ATTACH;FMTTYPE="image/jpeg":http://storage.ning.com/topology/rest/1.0/
 file/get/3054987437?profile=original
ATTENDEE;ROLE=REQ-PARTICIPANT;PARTSTAT=ACCEPTED;RSVP=TRUE;CN="Educatio
 n Program Coordinator":http://phillytodo.com/profile/EducationProgramC
 oordinator
END:VEVENT
END:VCALENDAR
