BEGIN:VCALENDAR
PRODID:NingEventWidget-v1
VERSION:2.0
METHOD:PUBLISH
BEGIN:VEVENT
UID:4320450:Event:39655
DTSTAMP:20260425T144707Z
SUMMARY:The Bridge Philadelphia Grand Opening Party!
DESCRIPTION:\nEvent Name:\nThe Bridge Philadelphia Grand Opening Party
 !\n\nEvent Date:\nFebruary 20th\nEvent Time:\n5:00pm-2:00am\nWebsite:\
 nFor \"Tickets\": http://philadelphia.cities2night.com/events/details
 /273563\nBridge Website: http://www.thebridgephilly.com/\nEvent Price
 :\n$5 donation\n \nEvent Description:\nYou and your friends are invit
 ed to The Bridge Philadelphia for their HUGE Grand Opening Party!\n
 On Friday, February 20th, the party kicks off at 6pm with a $3-$4-$
 5 Happy Hour, complimentary bar snacks, and music by Rick Baker, but t
 he party doesn't stop until 2am!  Enjoy a select open bar from 9-1
 0pm, plus passed hors d'oeuvres and sets by Dj's Rick Vala and Joby Th
 omas! Make sure you RSVP to get in on our VIP Open Bar list.\nSuggest
 ed $5 donation to the Barkhann Healing Hearts Foundation at the door g
 ains you access to this exclusive party - you don't want to miss out!\
 n\n\n\nFor more information visit http://phillytodo.com/events/the-bri
 dge-philadelphia-grand-opening-party
DTSTART:20150220T220000Z
DTEND:20150221T070000Z
CATEGORIES:grand, opening
LOCATION:Philadelphia
WEBSITE:
URL:
CONTACT:
ORGANIZER;CN="UpcomingEvents.com":http://phillytodo.com/profile/Upcomi
 ngEventscom
ATTACH;FMTTYPE="image/jpeg":http://storage.ning.com/topology/rest/1.0/
 file/get/3054986845?profile=original
ATTENDEE;ROLE=REQ-PARTICIPANT;PARTSTAT=ACCEPTED;RSVP=TRUE;CN="Upcoming
 Events.com":http://phillytodo.com/profile/UpcomingEventscom
END:VEVENT
END:VCALENDAR
