BEGIN:VCALENDAR
PRODID:NingEventWidget-v1
VERSION:2.0
METHOD:PUBLISH
BEGIN:VEVENT
UID:4320450:Event:56142
DTSTAMP:20260425T112433Z
SUMMARY:The Blue Plate Special
DESCRIPTION:PA Blue Victory Fund is excited to announce a new event in
  Philadelphia, The Blue Plate Special—where culinary talent and loca
 l candidates join together for a night of food, drinks and music to ra
 ise money and help under-funded candidates in competitive races and gr
 assroots organizations with the overarching goal of turning the state 
 blue for the next national election.\nNearly 40 of the city’s chefs,
  restauranteurs, distillers and food artisans will join 35 local candi
 dates at the Franklin Institute, including Former Governor Ed Rendell 
 who will be the Honorary Executive Chef for the night.\n\nFor more inf
 ormation visit http://phillytodo.com/events/the-blue-plate-special
DTSTART:20180917T233000Z
DTEND:20180918T020000Z
CATEGORIES:politics, political, events, food, and, drink, tasting, cul
 inary
LOCATION:The Franklin Institute
WEBSITE:https://www.pabluevictory.org/
URL:https://www.pabluevictory.org/
CONTACT:2156271060
ORGANIZER:PA Blue Victory Fund
ATTACH;FMTTYPE="image/jpeg":
ATTENDEE;ROLE=REQ-PARTICIPANT;PARTSTAT=ACCEPTED;RSVP=TRUE;CN=CashmanAs
 soc:http://phillytodo.com/profile/CashmanAssoc
END:VEVENT
END:VCALENDAR
