BEGIN:VCALENDAR
PRODID:NingEventWidget-v1
VERSION:2.0
METHOD:PUBLISH
BEGIN:VEVENT
UID:4320450:Event:1565
DTSTAMP:20260425T130744Z
SUMMARY:The Bhagavad Gita :: A Satsung On the Story of Arjuna, Lifesty
 le & Ethics w/ Jordanna  5/23
DESCRIPTION:Jordanna offers this opportunity for us to gather with ope
 n minds and hearts to explore the epic story of the Bhagavad Gita and 
 it's timeless teachings on life as a Yogi.\n\nFor more information vis
 it http://phillytodo.com/events/the-bhagavad-gita-a-satsung
DTSTART:20100523T170000Z
DTEND:20100523T200000Z
CATEGORIES:discussion, "&", learning, forum
LOCATION:Dhyana Yoga Old City - 68 N. Second Street
WEBSITE:
URL:
CONTACT:
ORGANIZER;CN="Dhyana Yoga":http://phillytodo.com/profile/DhyanaYoga
ATTACH;FMTTYPE="image/jpeg":http://storage.ning.com/topology/rest/1.0/
 file/get/3054949977?profile=original
ATTENDEE;ROLE=REQ-PARTICIPANT;PARTSTAT=ACCEPTED;RSVP=TRUE;CN="Dhyana Y
 oga":http://phillytodo.com/profile/DhyanaYoga
END:VEVENT
END:VCALENDAR
