BEGIN:VCALENDAR
PRODID:NingEventWidget-v1
VERSION:2.0
METHOD:PUBLISH
BEGIN:VEVENT
UID:4320450:Event:35985
DTSTAMP:20260425T143316Z
SUMMARY:The Bazemore Gallery Presents “Everlastin9” an exhibit by 
 JUSTIN Y
DESCRIPTION:The Bazemore Gallery Presents “Everlastin9” an exhibit
  by JUSTIN Y. Acclaimed Hong Kong based contemporary artist Justin Y w
 ill host his first solo exhibition in the U.S. at Philadelphia’s new
 est art lover’s oasis, The Bazemore Gallery. From April 5, 2014 thr
 ough May 10, 2014, Justin Y’s colorful masterpieces will be on displ
 ay, beginning with an opening reception from 4pm to 8pm April 5, 2014
 . Refreshments and light bites will be served. Please RSVP to TheBazem
 oreGallery@gmail.com.\n \nA world traveler and lover of bold color an
 d shimmering materials, Justin Y takes inspiration from ancient cities
  and palaces, deep sea reserves, snow top mountains and deserts, and a
 boriginal settlements. More information on his avant-garde creations c
 an be found by visiting www.facebook.com/justinyart.\n\nFor more infor
 mation visit http://phillytodo.com/events/the-bazemore-gallery-present
 s-everlastin9-an-exhibit-by-justin-y
DTSTART:20140405T200000Z
DTEND:20140406T000000Z
CATEGORIES:art, exhibit
LOCATION:The Bazemore Gallery
WEBSITE:http://www.thebazemoregallery.com
URL:http://www.thebazemoregallery.com
CONTACT:(215)482-1119
ORGANIZER:The Bazemore Gallery
ATTACH;FMTTYPE="image/jpeg":http://storage.ning.com/topology/rest/1.0/
 file/get/3054973411?profile=original
ATTENDEE;ROLE=REQ-PARTICIPANT;PARTSTAT=ACCEPTED;RSVP=TRUE;CN=CashmanAs
 soc:http://phillytodo.com/profile/CashmanAssoc
END:VEVENT
END:VCALENDAR
