BEGIN:VCALENDAR
PRODID:NingEventWidget-v1
VERSION:2.0
METHOD:PUBLISH
BEGIN:VEVENT
UID:4320450:Event:2024
DTSTAMP:20260425T160926Z
SUMMARY:The Bad Dog Ball, Hosted by the Young Friends of the Pennsylva
 nia SPCA
DESCRIPTION:The Young Friends of the Pennsylvania SPCA present the fir
 st annual Bad Dog Ball\n\nNovember 6, 2010\n\n9pm-1am\nCocktail Party 
 & Fundraiser\n\nLoews Philadelphia\n1200 Market Street\n\nTickets - $8
 0\n\nFor tickets, call (215) 426-6304 x227 or download an order form f
 rom www.pspca.org.\n\nThe Bad Dog Ball is a young professionals’ coc
 ktail party and fundraiser held on the same night as the Good Dog Gala
  at the gorgeous Loews Philadelphia hotel. Hosted by the Young Friends
  of the Pennsylvania SPCA, the Ball introduces philanthropic young pro
 fessionals to the lifesaving work of the organization at a party featu
 ring hors d’oeuvres, cocktails, a live DJ, dancing, photo ops, raffl
 e prizes and more. The best part is, guests can party the night away w
 ith their four-legged friends! Dogs (good and bad) are welcome to atte
 nd. The Bad Dog Ball also doubles as the “after-party with attitude
  for the more formal Good Dog Gala on the same night at the Loews Ph
 iladelphia.\n\nFor more information visit http://phillytodo.com/events
 /the-bad-dog-ball-hosted-by-the
DTSTART:20101107T010000Z
DTEND:20101107T050000Z
CATEGORIES:fundraiser
LOCATION:Loews Philadelphia
WEBSITE:
URL:
CONTACT:
ORGANIZER;CN="Pennsylvania SPCA":http://phillytodo.com/profile/Pennsyl
 vaniaSPCA
ATTACH;FMTTYPE="image/jpeg":http://storage.ning.com/topology/rest/1.0/
 file/get/3054950441?profile=original
ATTENDEE;ROLE=REQ-PARTICIPANT;PARTSTAT=ACCEPTED;RSVP=TRUE;CN="Pennsylv
 ania SPCA":http://phillytodo.com/profile/PennsylvaniaSPCA
END:VEVENT
END:VCALENDAR
