BEGIN:VCALENDAR
PRODID:NingEventWidget-v1
VERSION:2.0
METHOD:PUBLISH
BEGIN:VEVENT
UID:4320450:Event:91289
DTSTAMP:20260425T125427Z
SUMMARY:The Bacchanalian Ones featuring Federico Solmi
DESCRIPTION:Using game engines, digital animation, virtual, and augmen
 ted reality combined with his drawings and paintings, Federico Solmi c
 reates satirical and clownish portrayals of political leaders, colonia
 l rulers, and explorers absorbed in extravagant and deranged parties; 
 pompous, imperious parades; and theatrical and contrived events. Inspi
 red by ancient mythology, modern myth, and contemporary celebrity cult
 ure, Solmi has blended together historical characters and depicts them
  as ghoulish, self-indulgent, degenerate devotees of the cults of Bacc
 hus and Dionysus concerned only with their own power and influence.\nT
 hrough the absurd behavior of Solmi’s characters, The Bacchanalian O
 nes asks us to question their relevance and the distorted historical n
 arrative that has led to an era of misinformation, corruption, and hyp
 ocrisy.Rowan University Art Gallery is open by appointment only. Pleas
 e reserve a timed ticket in advance to visiting the gallery. All visit
 ors must wear a mask and practice safe distancing.   To schedule your 
 visit to The Bacchanalian Ones: https://www.eventbrite.com/e/the-bacch
 analian-ones-featuring-federico-solmi-tickets-127377317987\n\nFor more
  information visit http://phillytodo.com/events/the-bacchanalian-ones-
 featuring-federico-solmi
DTSTART:20201111T160000Z
DTEND:20210109T220000Z
CATEGORIES:gallery, exhibition
LOCATION:Rowan University Art Gallery
WEBSITE:https://www.eventbrite.com/e/the-bacchanalian-ones-featuring-f
 ederico-solmi-tickets-127377317987
URL:https://www.eventbrite.com/e/the-bacchanalian-ones-featuring-feder
 ico-solmi-tickets-127377317987
CONTACT:856-256-4521
ORGANIZER;CN="mary salvante":http://phillytodo.com/profile/marysalvant
 e
ATTACH;FMTTYPE="image/jpeg":https://storage.ning.com/topology/rest/1.0
 /file/get/8120207683?profile=original
ATTENDEE;ROLE=REQ-PARTICIPANT;PARTSTAT=ACCEPTED;RSVP=TRUE;CN="mary sal
 vante":http://phillytodo.com/profile/marysalvante
END:VEVENT
END:VCALENDAR
