BEGIN:VCALENDAR
PRODID:NingEventWidget-v1
VERSION:2.0
METHOD:PUBLISH
BEGIN:VEVENT
UID:4320450:Event:27104
DTSTAMP:20260425T163308Z
SUMMARY:The All-American Race Weekend: June 30 – July 1 at New Jerse
 y Motorsports Park
DESCRIPTION:New Jersey Motorsports Park will host The All-American Rac
 e Weekend presented by Global Barter Corporation, June 30 – July 1, 
 2012.\n \nARCA Racing Series presented by Menards plus support series
  Trans Am Pro, Formula Atlantic, F2000, F1600 and Trans Am Vintage alo
 ng with Garden State Vintage Stock Car Club having 20+ cars & demonstr
 ations.  Also, Sports Car Club of America’s Regional with racing co
 vering the full range of classes including the popular TreadZone Pro I
 T Series.\n \nMotorcycle Stunt Shows with Tony Carbajal, Fan Walk, Dr
 ivers Meet & Greet, Monster Truck Rides, Face Painting, Vendor Partner
 s, Green and Checkered Flag Experiences, Soul Dancers Performances, Fo
 od Eating Contest and more.\n \nTurn-3 Party at the Officers Club on 
 Sunday, July  1 (only) with BBQ & Live Band starting at 10 a.m. for j
 ust $20 per person with cash bar.\n \nYamaha Zuma Scooter Give-a-Way,
  valued at $3,000, to the first 500 people who purchase a 2-Day ARCA e
 vent ticket (must be present to win).\n \nSpecial guest: 1961 Daytona
  500 winner Marvin Panch, one of NASCAR’s legendary all-time top 50 
 drivers, and remember… kids age 12 and under get in FREE all weekend
  long!\n \nNJMP is supporting various Veterans’ organizations throu
 ghout the weekend.\n \nhttp://www.njmp.com/arca-weekend-2012.html\n\n
 For more information visit http://phillytodo.com/events/the-all-americ
 an-race-weekend-june-30-july-1-at-new-jersey
DTSTART:20120630T130000Z
DTEND:20120701T230000Z
CATEGORIES:auto, racing
LOCATION:New Jersey Motorsports Park
WEBSITE:http://www.njmp.com
URL:http://www.njmp.com
CONTACT:856-327-7265
ORGANIZER;CN="New Jersey Motorsports Park":http://phillytodo.com/profi
 le/NewJerseyMotorsportsPark
ATTACH;FMTTYPE="image/jpeg":
ATTENDEE;ROLE=REQ-PARTICIPANT;PARTSTAT=ACCEPTED;RSVP=TRUE;CN="New Jers
 ey Motorsports Park":http://phillytodo.com/profile/NewJerseyMotorsport
 sPark
END:VEVENT
END:VCALENDAR
