BEGIN:VCALENDAR
PRODID:NingEventWidget-v1
VERSION:2.0
METHOD:PUBLISH
BEGIN:VEVENT
UID:4320450:Event:29916
DTSTAMP:20260425T160231Z
SUMMARY:THE acoustic show
DESCRIPTION:tonight WEEKLY GIG- Me , AJ , and Perry doing our acoustic
  open mic  Every thurs @ Deans Colonial Inn 11 Beaver St, Langhorne, 
 Pa 19047~~9pm\n\nFor more information visit http://phillytodo.com/even
 ts/the-acoustic-show
DTSTART:20130228T230000Z
DTEND:20130301T000000Z
CATEGORIES:open, mic
LOCATION:Deans Colonial Inn
WEBSITE:http://www.thinkpinkfloyd.com/
URL:http://www.thinkpinkfloyd.com/
CONTACT:2153647065
ORGANIZER;CN="think pink floyd":http://phillytodo.com/profile/thinkpin
 kfloyd
ATTACH;FMTTYPE="image/jpeg":http://storage.ning.com/topology/rest/1.0/
 file/get/3054960810?profile=original
ATTENDEE;ROLE=REQ-PARTICIPANT;PARTSTAT=ACCEPTED;RSVP=TRUE;CN="think pi
 nk floyd":http://phillytodo.com/profile/thinkpinkfloyd
END:VEVENT
END:VCALENDAR
