BEGIN:VCALENDAR
PRODID:NingEventWidget-v1
VERSION:2.0
METHOD:PUBLISH
BEGIN:VEVENT
UID:4320450:Event:4016
DTSTAMP:20260425T175152Z
SUMMARY:The Absinthe Drinkers@Carnival of Broken Hearts/Anti Valentine
  Bash
DESCRIPTION:The Absinthe Drinkers will appear at the invite only Carni
 val of Broken Hearts/Anti Valentine Bash in Lancaster, PA.\n\nFor more
  information visit http://phillytodo.com/events/the-absinthe-drinkersc
 arnival
DTSTART:20110227T010000Z
DTEND:20110227T050000Z
CATEGORIES:private, party
LOCATION:Lancaster, PA
WEBSITE:
URL:
CONTACT:
ORGANIZER;CN="The Absinthe Drinkers":http://phillytodo.com/profile/The
 AbsintheDrinkers
ATTACH;FMTTYPE="image/jpeg":http://storage.ning.com/topology/rest/1.0/
 file/get/3054954141?profile=original
ATTENDEE;ROLE=REQ-PARTICIPANT;PARTSTAT=ACCEPTED;RSVP=TRUE;CN="The Absi
 nthe Drinkers":http://phillytodo.com/profile/TheAbsintheDrinkers
END:VEVENT
END:VCALENDAR
