BEGIN:VCALENDAR
PRODID:NingEventWidget-v1
VERSION:2.0
METHOD:PUBLISH
BEGIN:VEVENT
UID:4320450:Event:1062
DTSTAMP:20260425T160749Z
SUMMARY:The Absinthe Drinkers @ Liberties
DESCRIPTION:Warm up with The Drinkers when they hit Northern Liberties
  with Baffle the Cat and The Rattlers!\nDoors 8:30pm $5\n\nFor more in
 formation visit http://phillytodo.com/events/the-absinthe-drinkers
DTSTART:20100228T010000Z
DTEND:20100228T060000Z
CATEGORIES:"music/performance"
LOCATION:Liberties Restaurant & Bar
WEBSITE:http://www.libertiesrestaurant.com/
URL:http://www.libertiesrestaurant.com/
CONTACT:(215) 238-0660
ORGANIZER;CN="The Absinthe Drinkers":http://phillytodo.com/profile/The
 AbsintheDrinkers
ATTACH;FMTTYPE="image/jpeg":http://storage.ning.com/topology/rest/1.0/
 file/get/3054946088?profile=original
ATTENDEE;ROLE=REQ-PARTICIPANT;PARTSTAT=ACCEPTED;RSVP=TRUE;CN="The Absi
 nthe Drinkers":http://phillytodo.com/profile/TheAbsintheDrinkers
END:VEVENT
END:VCALENDAR
