BEGIN:VCALENDAR
PRODID:NingEventWidget-v1
VERSION:2.0
METHOD:PUBLISH
BEGIN:VEVENT
UID:4320450:Event:31794
DTSTAMP:20260425T141429Z
SUMMARY:The Absinthe Drinkers @ XFest 2013
DESCRIPTION:The Drinkers arrive in Telford, PA for the Xtreme Folk Sce
 ne’s XFest 2013! This year's Xfest will be held at The Country Cre
 ek Winery! Friday, June 7th 7pmXFest 2013 info: http://www.xfsmusic.
 org/index.htmFor Tickets: http://www.xfsmusic.org/store.htm\n\nFor mo
 re information visit http://phillytodo.com/events/the-absinthe-drinker
 s-xfest-2013
DTSTART:20130607T220000Z
DTEND:20130608T010000Z
CATEGORIES:music
LOCATION:XFest @ The Country Creek Winery
WEBSITE:http://www.xfsmusic.org/
URL:http://www.xfsmusic.org/
CONTACT:(215) 723-6516
ORGANIZER;CN="The Absinthe Drinkers":http://phillytodo.com/profile/The
 AbsintheDrinkers
ATTACH;FMTTYPE="image/jpeg":http://storage.ning.com/topology/rest/1.0/
 file/get/3054958423?profile=original
ATTENDEE;ROLE=REQ-PARTICIPANT;PARTSTAT=ACCEPTED;RSVP=TRUE;CN="The Absi
 nthe Drinkers":http://phillytodo.com/profile/TheAbsintheDrinkers
END:VEVENT
END:VCALENDAR
