BEGIN:VCALENDAR
PRODID:NingEventWidget-v1
VERSION:2.0
METHOD:PUBLISH
BEGIN:VEVENT
UID:4320450:Event:1069
DTSTAMP:20260425T142605Z
SUMMARY:The Absinthe Drinkers @ Tritone
DESCRIPTION:The Drinkers are back at the Tritone\nwith gypsy punkers T
 his Way to the Egress\nand jazzy Baffle the Cat!\nDoors 8pm $5\n\nFor 
 more information visit http://phillytodo.com/events/the-absinthe-drink
 ers-tritone
DTSTART:20100424T000000Z
DTEND:20100424T050000Z
CATEGORIES:"music/performance"
LOCATION:Tritone
WEBSITE:http://www.tritonebar.com/
URL:http://www.tritonebar.com/
CONTACT:215-545-0475
ORGANIZER;CN="The Absinthe Drinkers":http://phillytodo.com/profile/The
 AbsintheDrinkers
ATTACH;FMTTYPE="image/jpeg":http://storage.ning.com/topology/rest/1.0/
 file/get/3054946170?profile=original
ATTENDEE;ROLE=REQ-PARTICIPANT;PARTSTAT=ACCEPTED;RSVP=TRUE;CN="The Absi
 nthe Drinkers":http://phillytodo.com/profile/TheAbsintheDrinkers
END:VEVENT
END:VCALENDAR
