BEGIN:VCALENDAR
PRODID:NingEventWidget-v1
VERSION:2.0
METHOD:PUBLISH
BEGIN:VEVENT
UID:4320450:Event:1353
DTSTAMP:20260425T161818Z
SUMMARY:The Absinthe Drinkers @ Time
DESCRIPTION:The Absinthe Drinkers are back at Time\nwith Kiss Kiss Kil
 l and late night DJ Dave Ghoul!\n$8. Doors at 8:30pm. Show at 9pm.\n\n
 For more information visit http://phillytodo.com/events/the-absinthe-d
 rinkers-time
DTSTART:20100618T010000Z
DTEND:20100618T060000Z
CATEGORIES:music, performance
LOCATION:Time
WEBSITE:http://www.timerestaurant.net/
URL:http://www.timerestaurant.net/
CONTACT:215-985-4800
ORGANIZER;CN="The Absinthe Drinkers":http://phillytodo.com/profile/The
 AbsintheDrinkers
ATTACH;FMTTYPE="image/jpeg":http://storage.ning.com/topology/rest/1.0/
 file/get/3054946518?profile=original
ATTENDEE;ROLE=REQ-PARTICIPANT;PARTSTAT=ACCEPTED;RSVP=TRUE;CN="The Absi
 nthe Drinkers":http://phillytodo.com/profile/TheAbsintheDrinkers
END:VEVENT
END:VCALENDAR
