BEGIN:VCALENDAR
PRODID:NingEventWidget-v1
VERSION:2.0
METHOD:PUBLISH
BEGIN:VEVENT
UID:4320450:Event:27055
DTSTAMP:20260425T185518Z
SUMMARY:The Absinthe Drinkers @ The Fire
DESCRIPTION:The Drinkers will be appearing with our good friends This 
 Way To The Egress, Hellblinki (NC) and Frenchy and the Punk (NYC)! Ste
 am-punkery, lit-pop, gypsy cabaret greatness! Doors at 8:30 21+ $8\n\n
 For more information visit http://phillytodo.com/events/the-absinthe-d
 rinkers-the-fire
DTSTART:20120921T003000Z
DTEND:20120921T050000Z
CATEGORIES:music
LOCATION:The Fire
WEBSITE:http://www.iourecords.com/thefire/contact.php
URL:http://www.iourecords.com/thefire/contact.php
CONTACT:267-671-9298
ORGANIZER;CN="The Absinthe Drinkers":http://phillytodo.com/profile/The
 AbsintheDrinkers
ATTACH;FMTTYPE="image/jpeg":http://storage.ning.com/topology/rest/1.0/
 file/get/3054958423?profile=original
ATTENDEE;ROLE=REQ-PARTICIPANT;PARTSTAT=ACCEPTED;RSVP=TRUE;CN="The Absi
 nthe Drinkers":http://phillytodo.com/profile/TheAbsintheDrinkers
END:VEVENT
END:VCALENDAR
