BEGIN:VCALENDAR
PRODID:NingEventWidget-v1
VERSION:2.0
METHOD:PUBLISH
BEGIN:VEVENT
UID:4320450:Event:5917
DTSTAMP:20260425T142636Z
SUMMARY:The Absinthe Drinkers @ The Peanut Gallery WMCN TV Broadcast
DESCRIPTION:The Absinthe Drinkers will appear at The Peanut Gallery fo
 r a St.Patty's night of shenanigans to be taped for television broadca
 st on Philadelphia's WMCN!We'd love to hear your voices on the moving 
 picture box!So come on out, get pickled (with a designated!) and party
  with the Drinkers!\n9pm  Free!  21+www.theabsinthedrinkers.comwww.p
 gtavern.com www.getitontvphilly.com/\n\nFor more information visit htt
 p://phillytodo.com/events/the-absinthe-drinkers-the-5
DTSTART:20110318T010000Z
DTEND:20110318T040000Z
CATEGORIES:music
LOCATION:The Peanut Gallery Tavern
WEBSITE:http://www.pgtavern.com
URL:http://www.pgtavern.com
CONTACT:610-275-4777
ORGANIZER;CN="The Absinthe Drinkers":http://phillytodo.com/profile/The
 AbsintheDrinkers
ATTACH;FMTTYPE="image/jpeg":http://storage.ning.com/topology/rest/1.0/
 file/get/3054954281?profile=original
ATTENDEE;ROLE=REQ-PARTICIPANT;PARTSTAT=ACCEPTED;RSVP=TRUE;CN="The Absi
 nthe Drinkers":http://phillytodo.com/profile/TheAbsintheDrinkers
END:VEVENT
END:VCALENDAR
