BEGIN:VCALENDAR
PRODID:NingEventWidget-v1
VERSION:2.0
METHOD:PUBLISH
BEGIN:VEVENT
UID:4320450:Event:2629
DTSTAMP:20260425T160808Z
SUMMARY:The Absinthe Drinkers @ The Fire (All Ages)
DESCRIPTION:The Drinkers are back at the Fire with such acts as Bitter
  Ruin (on tour with Amanda Palmer of the Dresden Dolls), Jason Webley 
 and This Way to the Egress!\n\nAll Ages Show!\n7-11pm $7\n\nFor more i
 nformation visit http://phillytodo.com/events/the-absinthe-drinkers-th
 e-3
DTSTART:20101013T230000Z
DTEND:20101014T030000Z
CATEGORIES:music
LOCATION:The Fire
WEBSITE:http://www.ticketweb.com/t3/sale/SaleEventDetail?dispatch=load
 SelectionData&eventId=3240265
URL:http://www.ticketweb.com/t3/sale/SaleEventDetail?dispatch=loadSele
 ctionData&eventId=3240265
CONTACT:267-671-9298
ORGANIZER;CN="The Absinthe Drinkers":http://phillytodo.com/profile/The
 AbsintheDrinkers
ATTACH;FMTTYPE="image/jpeg":http://storage.ning.com/topology/rest/1.0/
 file/get/3054946325?profile=original
ATTENDEE;ROLE=REQ-PARTICIPANT;PARTSTAT=ACCEPTED;RSVP=TRUE;CN="The Absi
 nthe Drinkers":http://phillytodo.com/profile/TheAbsintheDrinkers
END:VEVENT
END:VCALENDAR
