BEGIN:VCALENDAR
PRODID:NingEventWidget-v1
VERSION:2.0
METHOD:PUBLISH
BEGIN:VEVENT
UID:4320450:Event:13302
DTSTAMP:20260425T161733Z
SUMMARY:The Absinthe Drinkers @ Roxy and Dukes!
DESCRIPTION:The Absinthe Drinkers and This Way to the Egress will appe
 ar at Roxy and Duke's Roadhouse Lounge!A night of Steam-Pop and Gypsy 
 Punk!Saturday August 20 Doors 9pm $10http://www.roxyanddukes.com/\n\nF
 or more information visit http://phillytodo.com/events/the-absinthe-dr
 inkers-roxy
DTSTART:20110821T010000Z
DTEND:20110821T040000Z
CATEGORIES:music
LOCATION:Roxy and Dukes Roadhouse Lounge
WEBSITE:http://www.roxyanddukes.com/
URL:http://www.roxyanddukes.com/
CONTACT:732-529-4464
ORGANIZER;CN="The Absinthe Drinkers":http://phillytodo.com/profile/The
 AbsintheDrinkers
ATTACH;FMTTYPE="image/jpeg":http://storage.ning.com/topology/rest/1.0/
 file/get/3054954919?profile=original
ATTENDEE;ROLE=REQ-PARTICIPANT;PARTSTAT=ACCEPTED;RSVP=TRUE;CN="The Absi
 nthe Drinkers":http://phillytodo.com/profile/TheAbsintheDrinkers
END:VEVENT
END:VCALENDAR
