BEGIN:VCALENDAR
PRODID:NingEventWidget-v1
VERSION:2.0
METHOD:PUBLISH
BEGIN:VEVENT
UID:4320450:Event:2623
DTSTAMP:20260425T142723Z
SUMMARY:The Absinthe Drinkers @ Raven Lounge!
DESCRIPTION:The Absinthe Drinkers invade the Raven Lounge with guests 
 The Skeleton Equation!!\n\"Curiosities\" travel upstairs for an early 
 show.\nCurious?\n7 to 10pm\nNo Cover\n\nAge Requirement: 21+\n\nFor mo
 re information visit http://phillytodo.com/events/the-absinthe-drinker
 s-raven-1
DTSTART:20101106T230000Z
DTEND:20101107T020000Z
CATEGORIES:"music/performance"
LOCATION:Raven Lounge
WEBSITE:http://www.ravenlounge.com/
URL:http://www.ravenlounge.com/
CONTACT:215-840-3577
ORGANIZER;CN="The Absinthe Drinkers":http://phillytodo.com/profile/The
 AbsintheDrinkers
ATTACH;FMTTYPE="image/jpeg":http://storage.ning.com/topology/rest/1.0/
 file/get/3054950800?profile=original
ATTENDEE;ROLE=REQ-PARTICIPANT;PARTSTAT=ACCEPTED;RSVP=TRUE;CN="The Absi
 nthe Drinkers":http://phillytodo.com/profile/TheAbsintheDrinkers
END:VEVENT
END:VCALENDAR
