BEGIN:VCALENDAR
PRODID:NingEventWidget-v1
VERSION:2.0
METHOD:PUBLISH
BEGIN:VEVENT
UID:4320450:Event:1127
DTSTAMP:20260425T142617Z
SUMMARY:The Absinthe Drinkers @ Public Assembly NYC
DESCRIPTION:The Drinkers cruise into the Big Apple to join the Rockabi
 lly Burlesque Show w/ AM Preacher & more @ Public Assembly! 5/1/2010 (
 Back Room), 10 pm, $10\n\nFor more information visit http://phillytodo
 .com/events/the-absinthe-drinkers-public
DTSTART:20100502T020000Z
DTEND:20100502T050000Z
CATEGORIES:"music/performance"
LOCATION:Public Assembly
WEBSITE:http://www.publicassemblynyc.com/
URL:http://www.publicassemblynyc.com/
CONTACT:718-782-5188
ORGANIZER;CN="The Absinthe Drinkers":http://phillytodo.com/profile/The
 AbsintheDrinkers
ATTACH;FMTTYPE="image/jpeg":http://storage.ning.com/topology/rest/1.0/
 file/get/3054946088?profile=original
ATTENDEE;ROLE=REQ-PARTICIPANT;PARTSTAT=ACCEPTED;RSVP=TRUE;CN="The Absi
 nthe Drinkers":http://phillytodo.com/profile/TheAbsintheDrinkers
END:VEVENT
END:VCALENDAR
