BEGIN:VCALENDAR
PRODID:NingEventWidget-v1
VERSION:2.0
METHOD:PUBLISH
BEGIN:VEVENT
UID:4320450:Event:2924
DTSTAMP:20260425T142614Z
SUMMARY:The Absinthe Drinkers @ Mojo13
DESCRIPTION:The Absinthe Drinkers shoot down to Mojo 13 with Viva Le V
 ox!\nDoors 8pm $5 21+\n\nFor more information visit http://phillytodo.
 com/events/the-absinthe-drinkers-mojo13
DTSTART:20101203T010000Z
DTEND:20101203T060000Z
CATEGORIES:music
LOCATION:Mojo 13
WEBSITE:http://theabsinthedrinkers.com/
URL:http://theabsinthedrinkers.com/
CONTACT:302-798-5798
ORGANIZER;CN="The Absinthe Drinkers":http://phillytodo.com/profile/The
 AbsintheDrinkers
ATTACH;FMTTYPE="image/jpeg":http://storage.ning.com/topology/rest/1.0/
 file/get/3054950968?profile=original
ATTENDEE;ROLE=REQ-PARTICIPANT;PARTSTAT=ACCEPTED;RSVP=TRUE;CN="The Absi
 nthe Drinkers":http://phillytodo.com/profile/TheAbsintheDrinkers
END:VEVENT
END:VCALENDAR
