BEGIN:VCALENDAR
PRODID:NingEventWidget-v1
VERSION:2.0
METHOD:PUBLISH
BEGIN:VEVENT
UID:4320450:Event:4019
DTSTAMP:20260425T161825Z
SUMMARY:The Absinthe Drinkers @ MOJO 13!
DESCRIPTION:The Absinthe Drinkers and This Way to the Egress bring the
 ir variety of Rock and Gypsy Punk Cabaret to Delaware!21+ Doors @ 8:30
 pm $5www.theabsinthedrinkers.comwww.thiswaytotheegress.comwww.mojothir
 teen.com\n\nFor more information visit http://phillytodo.com/events/th
 e-absinthe-drinkers-mojo-13
DTSTART:20110306T020000Z
DTEND:20110306T060000Z
CATEGORIES:music
LOCATION:Mojo 13
WEBSITE:http://www.mojothirteen.com/
URL:http://www.mojothirteen.com/
CONTACT:302-798-5798
ORGANIZER;CN="The Absinthe Drinkers":http://phillytodo.com/profile/The
 AbsintheDrinkers
ATTACH;FMTTYPE="image/jpeg":http://storage.ning.com/topology/rest/1.0/
 file/get/3054954196?profile=original
ATTENDEE;ROLE=REQ-PARTICIPANT;PARTSTAT=ACCEPTED;RSVP=TRUE;CN="The Absi
 nthe Drinkers":http://phillytodo.com/profile/TheAbsintheDrinkers
END:VEVENT
END:VCALENDAR
