BEGIN:VCALENDAR
PRODID:NingEventWidget-v1
VERSION:2.0
METHOD:PUBLISH
BEGIN:VEVENT
UID:4320450:Event:27742
DTSTAMP:20260425T203927Z
SUMMARY:The Absinthe Drinkers @ Fringe Festival's 2012 Late Night Caba
 ret!
DESCRIPTION:The Drinkers will be the house band for a potpourri of wo
 nderful acts hosted by Sci-fi Devil Girls!! 10pm 'til the wee-est of h
 ours! 21+ More info tba!\n\nFor more information visit http://phillyto
 do.com/events/the-absinthe-drinkers-fringe-festival-s-2012-late-night-
 cabaret
DTSTART:20120917T020000Z
DTEND:20120917T070000Z
CATEGORIES:music
LOCATION:The Underground Arts @ The Wolf Building
WEBSITE:http://undergroundarts.org/
URL:http://undergroundarts.org/
CONTACT:http://undergroundarts.org/
ORGANIZER;CN="The Absinthe Drinkers":http://phillytodo.com/profile/The
 AbsintheDrinkers
ATTACH;FMTTYPE="image/jpeg":http://storage.ning.com/topology/rest/1.0/
 file/get/3054958423?profile=original
ATTENDEE;ROLE=REQ-PARTICIPANT;PARTSTAT=ACCEPTED;RSVP=TRUE;CN="The Absi
 nthe Drinkers":http://phillytodo.com/profile/TheAbsintheDrinkers
END:VEVENT
END:VCALENDAR
