BEGIN:VCALENDAR
PRODID:NingEventWidget-v1
VERSION:2.0
METHOD:PUBLISH
BEGIN:VEVENT
UID:4320450:Event:35747
DTSTAMP:20260425T161453Z
SUMMARY:The Absinthe Drinkers Early Late-Nitey Mardis Gras!
DESCRIPTION:Don't you all remember the time Mr. Rogers handed out bead
 s in exchange for flashing him? Good times! On Tuesday, March 4 The A
 bsinthe Drinkers will recreate that warm fat tuesday feeling with our
  latest installment of The Early Late-Nitey Talky Show: A Mardi Gras K
 id's Show!\nWith The Absinthe Drinkers!\nBurlesque beauties Tesla Tea
 se, Esther Ver Millions, Gemini Rose, Emily Claire and Scarlett St
 orm!\nTo take all this home we have invited New Pony, the best NOLA f
 unk band in Philadelphia. New Pony has a simple mission in life: make 
 you dance so hard you lose control of your rational mind. \nThe heroi
 c staff of Bob & Barbara's will report for duty to distribute the liqu
 id refreshment so crucial to your well being. All of this will be happ
 ening at 8:30pm sharp! Fat Tuesday! March 4, and the price of admissio
 n: NO COVER!\nLaissez Le Bon Temps Rollez!\n\nFor more information vis
 it http://phillytodo.com/events/the-absinthe-drinkers-early-late-nitey
 -mardis-gras
DTSTART:20140305T010000Z
DTEND:20140305T060000Z
CATEGORIES:music, theater
LOCATION:Bob &  Barbara's Lounge
WEBSITE:https://www.facebook.com/events/1454299238120802/
URL:https://www.facebook.com/events/1454299238120802/
CONTACT:215-545-4511
ORGANIZER;CN="The Absinthe Drinkers":http://phillytodo.com/profile/The
 AbsintheDrinkers
ATTACH;FMTTYPE="image/jpeg":http://storage.ning.com/topology/rest/1.0/
 file/get/3054973645?profile=original
ATTENDEE;ROLE=REQ-PARTICIPANT;PARTSTAT=ACCEPTED;RSVP=TRUE;CN="The Absi
 nthe Drinkers":http://phillytodo.com/profile/TheAbsintheDrinkers
END:VEVENT
END:VCALENDAR
