BEGIN:VCALENDAR
PRODID:NingEventWidget-v1
VERSION:2.0
METHOD:PUBLISH
BEGIN:VEVENT
UID:4320450:Event:18002
DTSTAMP:20260425T155500Z
SUMMARY:The Absinthe Drinkers @ Chaplin's Music Cafe
DESCRIPTION:Celebrate Halloween with The Drinkers, The National Bird a
 nd White Elephant Burlesque Society at Chaplin's The Music Cafe!\nLadi
 es and gentlemen, feast your eyes on these monstrosities! \nWhite Elep
 hant Burlesque Society!\nBawdy humor and salacious dancing with a gyps
 y cabaret twist!\n\nThe National Bird!\nFolk-rock chime punk-rock thun
 k with monster guitars!\n\nThe Absinthe Drinkers!\nUnholy experiments 
 in literary corpse revival from their steam-pop laboratories!\n\nCome 
 in costume, dance with us monsters all!\nPrizes will be awarded to the
  most monstrous and delightfully costumed! \nRemember,This is a BYOB e
 vent! ($4 per drinker corkage fee)\n Get stink-o on the cheap-o!\n\nT
 ickets $10 in advance @\nhttp://www.chaplinsmusiccafe.com/apps/webstor
 e/products/show/2639471\nOr at the door $12  8pm Doors open an hour be
 fore showtime\n\nhttp://www.chaplinsmusiccafe.com/\nMore info: http://
 www.theabsinthedrinkers.com\nhttps://www.facebook.com/event.php?eid=28
 4719651543199 http://www.chaplinsmusiccafe.com/\nhttps://www.facebook.
 com/pages/The-National-Bird/288399844092  http://weburlesque.net/\n\nF
 or more information visit http://phillytodo.com/events/the-absinthe-dr
 inkers-chaplin-s-music-cafe
DTSTART:20111030T000000Z
DTEND:20111030T043000Z
CATEGORIES:music
LOCATION:Chaplin's - The Music Cafe
WEBSITE:http://www.chaplinsmusiccafe.com/
URL:http://www.chaplinsmusiccafe.com/
CONTACT:610-792-4110
ORGANIZER;CN="The Absinthe Drinkers":http://phillytodo.com/profile/The
 AbsintheDrinkers
ATTACH;FMTTYPE="image/jpeg":http://storage.ning.com/topology/rest/1.0/
 file/get/3054954938?profile=original
ATTENDEE;ROLE=REQ-PARTICIPANT;PARTSTAT=ACCEPTED;RSVP=TRUE;CN="The Absi
 nthe Drinkers":http://phillytodo.com/profile/TheAbsintheDrinkers
END:VEVENT
END:VCALENDAR
