BEGIN:VCALENDAR
PRODID:NingEventWidget-v1
VERSION:2.0
METHOD:PUBLISH
BEGIN:VEVENT
UID:4320450:Event:9803
DTSTAMP:20260425T123417Z
SUMMARY:The Absinthe Drinkers @ Between Books, DE!
DESCRIPTION:The Absinthe Drinkers will appear at Between Books in DE t
 o coincide with the S.J.Chambers book signing for \"The Steampunk Bibl
 e\"! Saturday May 28Also on the panel will be Ekaterina Sedia, Ed Pett
 it, and illustrator Aleks Sennwald. The book signing will start at 7pm
  and the Drinkers are slated for 8:30pm!The band has prepared a semi-a
 coustic show to stimulate the most literary senses!\n\nwww.theabsinthe
 drinkers.com\n\nFor more information visit http://phillytodo.com/event
 s/the-absinthe-drinkers-between
DTSTART:20110528T230000Z
DTEND:20110529T020000Z
CATEGORIES:"music/book", signing
LOCATION:Between Books
WEBSITE:http://www.betweenbooks.com/
URL:http://www.betweenbooks.com/
CONTACT:(302)798-3378
ORGANIZER;CN="The Absinthe Drinkers":http://phillytodo.com/profile/The
 AbsintheDrinkers
ATTACH;FMTTYPE="image/jpeg":http://storage.ning.com/topology/rest/1.0/
 file/get/3054954422?profile=original
ATTENDEE;ROLE=REQ-PARTICIPANT;PARTSTAT=ACCEPTED;RSVP=TRUE;CN="The Absi
 nthe Drinkers":http://phillytodo.com/profile/TheAbsintheDrinkers
END:VEVENT
END:VCALENDAR
