BEGIN:VCALENDAR
PRODID:NingEventWidget-v1
VERSION:2.0
METHOD:PUBLISH
BEGIN:VEVENT
UID:4320450:Event:2617
DTSTAMP:20260425T173643Z
SUMMARY:The Absinthe Drinkers @ AxD Art Gallery!
DESCRIPTION:The Absinthe Drinkers make a rare appearance at AxD Galler
 y in conjunction with DesignPhiladelphia 2010 AxD Gallery show \"Passi
 ng Evidence\"!\nAxD Gallery’s latest exhibition, works on paper and 
 mixed media by Christine Stoughton and Nancy Sophy.\n\n\"Passing Evide
 nce\" celebrates the impermanence and transformation of natural materi
 als and memory, using media as diverse as cast shadows and illuminated
  paper stained with natural oils. The opening reception for Passing Ev
 idence is free and open to the public from 5 to 8 p.m. as part of the 
 city-wide celebration DesignPhiladelphia 2010!\n\nThe October 8th show
  will mark the first time The Absinthe Drinkers have played at AxD sin
 ce their hit 2007 Fringe Festival show, \"Songs From Under the Bed\".\
 nThis free concert starts at 7:30 p.m\n\nFor more information visit ht
 tp://phillytodo.com/events/the-absinthe-drinkers-axd-art
DTSTART:20101008T230000Z
DTEND:20101009T020000Z
CATEGORIES:"music/art/performance"
LOCATION:AxD Gallery
WEBSITE:http://a-x-d.com/gallery/future
URL:http://a-x-d.com/gallery/future
CONTACT:215-627-6250
ORGANIZER;CN="The Absinthe Drinkers":http://phillytodo.com/profile/The
 AbsintheDrinkers
ATTACH;FMTTYPE="image/jpeg":http://storage.ning.com/topology/rest/1.0/
 file/get/3054950010?profile=original
ATTENDEE;ROLE=REQ-PARTICIPANT;PARTSTAT=ACCEPTED;RSVP=TRUE;CN="The Absi
 nthe Drinkers":http://phillytodo.com/profile/TheAbsintheDrinkers
END:VEVENT
END:VCALENDAR
