BEGIN:VCALENDAR
PRODID:NingEventWidget-v1
VERSION:2.0
METHOD:PUBLISH
BEGIN:VEVENT
UID:4320450:Event:16816
DTSTAMP:20260425T173841Z
SUMMARY:The Absinthe Drinker's \"Traveling Curiosities\" Show @ John &
  Peter's!
DESCRIPTION:The Drinkers are back with the \"Traveling Curiosities of 
 Music and Burlesque\" at John & Peter’s in New Hope! Accompanied by 
 The National Bird and The Olde City Sideshow!Always an incredible ense
 mble of lovely ladies! Do not accept substitutions! Only \"The Traveli
 ng Curiousities of Music and Burlesque\" is guaranteed to delight, ama
 ze, and bewilder! $10Doors 8:30pm\n\nFor more information visit http:/
 /phillytodo.com/events/the-absinthe-drinker-s-traveling-curiosities-sh
 ow-john-peter-s
DTSTART:20111002T010000Z
DTEND:20111002T050000Z
CATEGORIES:music
LOCATION:John & Peter's
WEBSITE:http://www.johnandpeters.com/
URL:http://www.johnandpeters.com/
CONTACT:215-862-5981
ORGANIZER;CN="The Absinthe Drinkers":http://phillytodo.com/profile/The
 AbsintheDrinkers
ATTACH;FMTTYPE="image/jpeg":http://storage.ning.com/topology/rest/1.0/
 file/get/3054957764?profile=original
ATTENDEE;ROLE=REQ-PARTICIPANT;PARTSTAT=ACCEPTED;RSVP=TRUE;CN="The Absi
 nthe Drinkers":http://phillytodo.com/profile/TheAbsintheDrinkers
END:VEVENT
END:VCALENDAR
