BEGIN:VCALENDAR
PRODID:NingEventWidget-v1
VERSION:2.0
METHOD:PUBLISH
BEGIN:VEVENT
UID:4320450:Event:28009
DTSTAMP:20260425T132725Z
SUMMARY:The Absinthe Drinker's pre-'Ween Party @ Connie's Ric-Rac!
DESCRIPTION:Start your Halloween festivities early with the Drinkers a
 t Connies Ric-Rac in South Philly!\nBooze, Acts and.... Karaoke?!Maybe
  someone would like to take a crack at a Drinkers tune?We'll be joined
  by accordian/Gameboy (that's right! Gameboy!) entertainer Andrew Davi
 s!This is the way to start your 2012 H'ween!The 'stache compels you!No
  Cover!!!\n9pm   21+\n\nFor more information visit http://phillytodo
 .com/events/the-absinthe-drinker-s-pre-ween-party-connie-s-ric-rac
DTSTART:20121026T010000Z
DTEND:20121026T050000Z
CATEGORIES:music
LOCATION:Connie's Ric-Rac
WEBSITE:http://www.conniesricrac.com
URL:http://www.conniesricrac.com
CONTACT:215-279-7587
ORGANIZER;CN="The Absinthe Drinkers":http://phillytodo.com/profile/The
 AbsintheDrinkers
ATTACH;FMTTYPE="image/jpeg":http://storage.ning.com/topology/rest/1.0/
 file/get/3054960382?profile=original
ATTENDEE;ROLE=REQ-PARTICIPANT;PARTSTAT=ACCEPTED;RSVP=TRUE;CN="The Absi
 nthe Drinkers":http://phillytodo.com/profile/TheAbsintheDrinkers
END:VEVENT
END:VCALENDAR
