BEGIN:VCALENDAR
PRODID:NingEventWidget-v1
VERSION:2.0
METHOD:PUBLISH
BEGIN:VEVENT
UID:4320450:Event:8402
DTSTAMP:20260425T125005Z
SUMMARY:The 9th Annual 'Philly's Largest' After-Work Spring Singles Pa
 rty & Mixer!
DESCRIPTION:Join The Manayunk Brewery, SinglesEvents.com, and 95.7 Ben
  FM Thursday, May 12th from 6:00-10:00pm for the 9th Annual After-Work
  Spring Singles Party & Mixer upstairs in the River Club room & terrac
 e. This is an indoor/outdoor (if it is chilly or raining, just head on
  inside for the DJ & huge bar/room). Complimentary first drink, pasta 
 & salad dinner buffet, giveaways, prizes, ice breakers, singles expo, 
 and more!! Grab a friend or come alone. Either way, SEE YOU THERE!! \
 n\nFor more information visit http://phillytodo.com/events/the-9th-ann
 ual-phillys-largest
DTSTART:20110512T220000Z
DTEND:20110513T020000Z
CATEGORIES:singles, mixer
LOCATION:Manayunk Brewery & Restaurant
WEBSITE:http://www.UpcomingEvents.com/event/7219/ptodo
URL:http://www.UpcomingEvents.com/event/7219/ptodo
CONTACT:
ORGANIZER;CN="UpcomingEvents.com":http://phillytodo.com/profile/Upcomi
 ngEventscom
ATTACH;FMTTYPE="image/jpeg":http://storage.ning.com/topology/rest/1.0/
 file/get/3054954101?profile=original
ATTENDEE;ROLE=REQ-PARTICIPANT;PARTSTAT=ACCEPTED;RSVP=TRUE;CN="Upcoming
 Events.com":http://phillytodo.com/profile/UpcomingEventscom
END:VEVENT
END:VCALENDAR
