BEGIN:VCALENDAR
PRODID:NingEventWidget-v1
VERSION:2.0
METHOD:PUBLISH
BEGIN:VEVENT
UID:4320450:Event:15302
DTSTAMP:20260425T125027Z
SUMMARY:The 9th Annual 'Philly's Largest' After-Work Mid Summer Single
 s Party & Mixer!
DESCRIPTION:Join Bourbon Blue, SinglesEvents.com, and 95.7 Ben FM Thur
 sday, July 28th from 6:00-10:00pm for the 9th Annual After-Work Mid-Su
 mmer Singles Party & Mixer!Â  This is an indoor (we have two floors!) 
 / outdoor (awesome deck) event. Complimentary first drink, light food,
  giveaways, prizes, ice breakers, singles expo, and more!! Grab a frie
 nd or come alone. Either way, SEE YOU THERE!! Click below for FULL det
 ails on what's included.Â  Use discount code WEB5 and save $5/ticket!Â
   Get all the Details:Â http://summersinglesparty-ptodo.eventbrite.com
 \nÂ \n\nFor more information visit http://phillytodo.com/events/the-9t
 h-annual-phillys-largest-1
DTSTART:20110728T220000Z
DTEND:20110729T020000Z
CATEGORIES:singles, mixer
LOCATION:Bourbon Blue
WEBSITE:http://summersinglesparty-ptodo.eventbrite.com
URL:http://summersinglesparty-ptodo.eventbrite.com
CONTACT:
ORGANIZER;CN="UpcomingEvents.com":http://phillytodo.com/profile/Upcomi
 ngEventscom
ATTACH;FMTTYPE="image/jpeg":http://storage.ning.com/topology/rest/1.0/
 file/get/3054957594?profile=original
ATTENDEE;ROLE=REQ-PARTICIPANT;PARTSTAT=ACCEPTED;RSVP=TRUE;CN="Upcoming
 Events.com":http://phillytodo.com/profile/UpcomingEventscom
END:VEVENT
END:VCALENDAR
