BEGIN:VCALENDAR
PRODID:NingEventWidget-v1
VERSION:2.0
METHOD:PUBLISH
BEGIN:VEVENT
UID:4320450:Event:34144
DTSTAMP:20260425T145121Z
SUMMARY:The 37th Annual Philadelphia Museum of Art Craft Show
DESCRIPTION:Founded in 1977, the Philadelphia Museum of Art Craft Show
  has grown to be the premier show and sale of craft in the country. Th
 e 37th Annual Show will host 195 of the finest, most dynamic craft art
 ists in the United States to showcase their own one-of-a-kind artwork 
 from a variety of different media. Special guest artists from Lithuani
 a will be featured. The Show is presented by the Museum’s Women’s 
 Committee and the Craft Show Committee and is the leading fundraiser f
 or the Philadelphia Museum of Art. Times vary each day. Check the webs
 ite for more information. \n\nFor more information visit http://phill
 ytodo.com/events/the-37th-annual-philadelphia-museum-of-art-craft-show
DTSTART:20131107T160000Z
DTEND:20131111T020000Z
CATEGORIES:art, show
LOCATION:Philadelphia Convention Center
WEBSITE:http://www.pmacraftshow.org
URL:http://www.pmacraftshow.org
CONTACT:
ORGANIZER;CN=CashmanAssoc:http://phillytodo.com/profile/CashmanAssoc
ATTACH;FMTTYPE="image/jpeg":http://storage.ning.com/topology/rest/1.0/
 file/get/3054967252?profile=original
ATTENDEE;ROLE=REQ-PARTICIPANT;PARTSTAT=ACCEPTED;RSVP=TRUE;CN=CashmanAs
 soc:http://phillytodo.com/profile/CashmanAssoc
END:VEVENT
END:VCALENDAR
