BEGIN:VCALENDAR
PRODID:NingEventWidget-v1
VERSION:2.0
METHOD:PUBLISH
BEGIN:VEVENT
UID:4320450:Event:1724
DTSTAMP:20260425T161828Z
SUMMARY:The 32nd Annual Peoples' Festival
DESCRIPTION:\nJoin us for the 32nd Annual Peoples’ Festival, Saturda
 y, August 14th, 2010. Enjoy an event full of Entertainment, Education 
 and Empowerment from 12:00pm to 8:00pm in Historic Vernon Park located
  at Germantown & Chelten Avenues, Philadelphia, PA. This year we honor
  Mother Earth by sharing information about our responsibility to do ou
 r part for the preservation and improvement of our local and global co
 mmunity. We encourage organizations sharing the message of living a gr
 eener lifestyle to inquire about our Green Vendor and Sponsor incentiv
 es.\n\nOur annual PFC Peoples' Choice Awards will be presented to Men 
 working in the areas Communications, Entertainment and Activism. The 2
 010 awardees are Bob Perkins/WRTI-FM, Joe “Butterball” Tamburro/WD
 AS-FM, Russell Thompkins Jr./ The Stylistics, Mr. Bruce Webb/ Webb’s
  Department Store and State Representative John Myers. We consider Spo
 rts part of the Entertainment industry and will pay tribute to the uns
 ung legends of Philadelphia's rich basketball legacy. Peoples’ Festi
 val poet laureate, Aziza Kinteh will honor Mother Earth and pay homage
  to our award recipients through spoken word.\n\nThe complete performa
 nce schedule will be revealed in a future press release. It will be wo
 rth the wait.\nOur sponsors include Clear Wireless, Ardyss Internation
 al Unique Body Solutions, Smooth Jazz Magazine, Love Child Media Works
  and Future Steps Community Enrichment Programs, Inc.\n\nFor more info
 rmation visit http://phillytodo.com/events/the-32nd-annual-peoples
DTSTART:20100814T160000Z
DTEND:20100815T000000Z
CATEGORIES:outdoor, festival
LOCATION:Historic Vernon Park
WEBSITE:http://www.peoplesfestival.org
URL:http://www.peoplesfestival.org
CONTACT:215-248-3544
ORGANIZER:The Peoples' Festival Committee & Future Steps C.E.P
ATTACH;FMTTYPE="image/jpeg":http://storage.ning.com/topology/rest/1.0/
 file/get/3054949567?profile=original
ATTENDEE;ROLE=REQ-PARTICIPANT;PARTSTAT=ACCEPTED;RSVP=TRUE;CN="Ahlia Lo
 ve":http://phillytodo.com/profile/AhliaLove
END:VEVENT
END:VCALENDAR
