BEGIN:VCALENDAR
PRODID:NingEventWidget-v1
VERSION:2.0
METHOD:PUBLISH
BEGIN:VEVENT
UID:4320450:Event:31747
DTSTAMP:20260425T145458Z
SUMMARY:The 2nd Annual All-American Smoke Out BBQ & Music Festival
DESCRIPTION:12 bands, 4 DJs, Beers, food, Moon Bounce, Face Painting, 
 and more!  full details coming soon.  Tickets & More Info:  http:/
 /www.UpcomingEvents.com/event/14477/ptodo/\n \n\nFor more information
  visit http://phillytodo.com/events/the-2nd-annual-all-american-smoke-
 out-bbq-music-festival
DTSTART:20130420T170000Z
DTEND:20130421T060000Z
CATEGORIES:1, free, drink, included, beer, tasting, concert, "dj'd", "
 indoor/outdoor", event, live, entertainment, performance, special, cha
 rity, fundraiser, habitat, for, humanity
LOCATION:Flying Carpet Cafe & Bar
WEBSITE:http://www.UpcomingEvents.com/event/14477/ptodo/
URL:http://www.UpcomingEvents.com/event/14477/ptodo/
CONTACT:
ORGANIZER;CN="UpcomingEvents.com":http://phillytodo.com/profile/Upcomi
 ngEventscom
ATTACH;FMTTYPE="image/jpeg":http://storage.ning.com/topology/rest/1.0/
 file/get/3054963468?profile=original
ATTENDEE;ROLE=REQ-PARTICIPANT;PARTSTAT=ACCEPTED;RSVP=TRUE;CN="Upcoming
 Events.com":http://phillytodo.com/profile/UpcomingEventscom
END:VEVENT
END:VCALENDAR
